{"text_format":"3","workbook":"xlsx","n_sheets":5,"sheets":["ゲーム中画面","動かすとき使ってる方（触らないこと）","挑戦状受理判定","計算不要テンプレ","発案主"],"not_rendered":{"images":15,"macros":1},"read":"whole","date_system":"1900"}

{"sheet":"ゲーム中画面","index":0,"n_rows":5,"n_cols":6,"rows_kept":5}
[null,null,"ダイス"]
["キング名","ジャック",31,null,"挑戦権優位順","大きい方"]
["対戦相手名","クロウ",28,null,"現在の日数",2]
[]
["勝者",{"$f":"'動かすとき使ってる方（触らないこと）'!E10","v":"キング"}]

{"sheet":"動かすとき使ってる方（触らないこと）","index":1,"n_rows":100,"n_cols":10,"rows_kept":100}
[{"$f":"RAND()","v":0.7135365129032155},1,"ぱー",{"$nulls":6},"※エクセルは画面右三分の一くらいの表示にしておこう。開始後はD列より右が見えればいい。"]
[0.9574840769698035,2,"ぱー",null,null,"手",{"$nulls":3},"※青枠は開始前に触ってもおっけー"]
[0.8314769263386281,3,"ぱー","キング",{"$f":"ゲーム中画面!C2","v":31},{"$f":"IF(E3>100,\"エラー\",IF(E3<=0,\"エラー\",INDEX($C$1:$C$100,E3,1)))","v":"ぐー"},{"$f":"IF(F3=\"エラー\",\"エラー\",IF(F3=\"ぐー\",1,IF(F3=\"ちょき\",2,IF(F3=\"ぱー\",3,100))))","v":1}]
[0.5691646397542184,4,"ぱー","被指定者",{"$f":"ゲーム中画面!C3","v":28},{"$f":"IF(E4>100,\"エラー\",IF(E4<=0,\"エラー\",INDEX($C$1:$C$100,E4,1)))","v":"ちょき"},{"$f":"IF(F4=\"エラー\",\"エラー\",IF(F4=\"ぐー\",1,IF(F4=\"ちょき\",2,IF(F4=\"ぱー\",3,100))))","v":2},null,null,"※開始後、赤枠以外は触らない"]
[0.502754175309069,5,"ぱー",{"$nulls":6},"※「確定勝利」「あいこ」のときは一度入力ミスがないかチェック"]
[0.6095921688677112,6,"ぱー",null,"計算",null,"挑戦権","大きい順に",null,"※そうでなくても手の欄を指さし確認"]
[0.21858630969316506,7,"ぱー",null,{"$f":"IF(G3=\"エラー\",\"エラー\",IF(G4=\"エラー\",\"エラー\",G3-G4))","v":-1},null,"何日目",2]
[0.07633808659448826,8,"ぐー",{"$nulls":3},"挑戦権判定用",null,null,"※勝者表示に「#VALUE!」または「エラー」と表示されてたらたぶんダイスの入力ミス"]
[0.36131511944759753,9,"ぐー",null,"勝者",null,"キングのダイス"]
[0.710757908106187,10,"ぐー",null,{"$f":"IF(E7=\"エラー\",\"エラー\",IF(E7=2,D3,IF(E7=-1,D3,IF(E7=-2,D4,IF(E7=1,D4,IF(E7=0,\"あいこ\",\"一方確定\"))))))","v":"キング"},null,{"$f":"E3","v":31}]
[0.39949659646669866,11,"ぱー"]
[0.3587621852011843,12,"ちょき",null,"キング名",{"$f":"ゲーム中画面!B2","v":"ジャック"},"あいこ"]
[0.8641278229801467,13,"ぐー",null,"被指定者名",{"$f":"ゲーム中画面!B3","v":"クロウ"},"《あいこアナウンス》フィニッシャーの攻撃が通りませんでした。決闘中の決闘者は　ダイスを振り直し、次のターンへと決闘を進めてください。（※勝敗は今日中に決まります。「次のターン」は演出上の表現になります）"]
[0.09965971295543596,14,"ぐー"]
[0.6806111392092956,15,"ちょき",null,"♪ぷー"]
[0.6326219118610227,16,"ぱー",null,"Win【",{"$f":"IF($E$10=\"キング\",F12,IF($E$10=\"被指定者\",F13,\"～判定待ち～\"))","v":"ジャック"},"】"]
[0.40945805962046766,17,"ちょき",null,"Lose【",{"$f":"IF($E$10=\"キング\",F13,IF($E$10=\"被指定者\",F12,\"～判定待ち～\"))","v":"クロウ"},"】","→キング入れ替わりがあればアナウンス後ニューキング名入力"]
[0.0863522830625052,18,"ちょき",null,"夜アナウンス"]
[0.21588621587044843,19,"ぐー",null,"キング【",{"$f":"F12","v":"ジャック"},"】はダイスを三個振ってください。"]
[0.8088680233185389,20,"ちょき",null,"また、今日のキング【",{"$f":"F12","v":"ジャック"},"】への噛み・占いは禁止です。"]
[0.2672443578959973,21,"ちょき",null,"これは実行の可能不可能を問わず貼り付けます。"]
[0.028727319536771878,22,"ちょき",null,"朝一"]
[0.5841175017375219,23,"ちょき",null,"本日のキングは【",{"$f":"F12","v":"ジャック"},"】です。"]
[0.759039799898221,24,"ちょき",null,"果たして今日は誰とのデュエルになるのでしょうか。"]
[0.9312492536208223,25,"ぐー"]
[0.3657993516158883,26,"ぱー",null,"本日の挑戦権の獲得者は、朝一の出目が",{"$f":"H6","v":"大きい順に"},{"$f":"H7","v":2},"番目までの方です。"]
[0.29335543607480474,27,"確定勝利"]
[0.7405384094745506,28,"ちょき"]
[0.7530751265110924,29,"ぱー"]
[0.1260200193760459,30,"ぱー"]
[0.21863718918579267,31,"ぐー"]
[0.9820418671259912,32,"ぐー"]
[{"$f":"RAND()","v":0.9287104082850473},33,"ぐー"]
[0.8400082879653125,34,"ちょき"]
[0.5610452668850935,35,"ぱー"]
[0.36573356891815434,36,"ちょき"]
[0.3047318314708458,37,"ぐー"]
[0.9750724233632074,38,"ぱー"]
[0.16527518700242616,39,"ちょき"]
[0.6465680337505287,40,"ぱー"]
[0.20294428652937369,41,"ぐー"]
[0.738190803729018,42,"ぐー"]
[0.005980023988936711,43,"ぐー"]
[0.21850644684140885,44,"ちょき"]
[0.7981942369611154,45,"ちょき"]
[0.1617103827008496,46,"ぱー"]
[0.05239220784647958,47,"ちょき"]
[0.13592209468985617,48,"ぱー"]
[0.7702266110381752,49,"ぐー"]
[0.5811009989363461,50,"ぐー"]
[0.04739584511499384,51,"ぐー"]
[0.357153285823297,52,"ぱー"]
[0.7208970858715447,53,"ぱー"]
[0.630075798357934,54,"ぐー"]
[0.45740935250386217,55,"ぱー"]
[0.5482346685678983,56,"ぐー"]
[0.3598145926643809,57,"ぱー"]
[0.4968625165009678,58,"ちょき"]
[0.7063771576701438,59,"ちょき"]
[0.4300697615749953,60,"ぐー"]
[0.4478452477124284,61,"ちょき"]
[0.19228372878591082,62,"ぐー"]
[0.6332543037774571,63,"ぐー"]
[0.14906946447687808,64,"ぐー"]
[{"$f":"RAND()","v":0.3756178726951297},65,"ちょき"]
[0.6043301137045787,66,"ちょき"]
[0.8618068764335566,67,"ぱー"]
[0.4744318243382001,68,"ぱー"]
[0.7243292903675492,69,"ちょき"]
[0.5910403097205479,70,"ちょき"]
[0.41154484654134915,71,"ぱー"]
[0.9657293107515249,72,"ちょき"]
[0.39709199698177067,73,"ぱー"]
[0.8619090717720411,74,"ちょき"]
[0.8359565523472731,75,"ぐー"]
[0.507235208274788,76,"ぱー"]
[0.851432434022904,77,"ぐー"]
[0.7300176599268743,78,"ぐー"]
[0.9824603920530619,79,"ぱー"]
[0.17395532507546285,80,"ちょき"]
[0.9269544123057687,81,"ぐー"]
[0.6392493267424132,82,"ぐー"]
[0.20559695589625826,83,"ぐー"]
[0.9669920993766281,84,"ぱー"]
[0.3343461012592728,85,"ぱー"]
[0.7312525382134435,86,"ぐー"]
[0.3355360213490697,87,"ちょき"]
[0.058614050910985815,88,"ぱー"]
[0.09279397281576729,89,"ちょき"]
[0.5211098204223352,90,"ぱー"]
[0.5474975717090057,91,"ちょき"]
[0.9417225641707656,92,"ちょき"]
[0.7979171042388801,93,"ぐー"]
[0.831171732468839,94,"ちょき"]
[0.7390207150276255,95,"ちょき"]
[0.9270933085271802,96,"ちょき"]
[0.6636201856399906,97,"ぐー"]
[0.40627752013774476,98,"ぐー"]
[0.9538022235134112,99,"ぱー"]
[0.6374774728994651,100,"ぱー"]

{"sheet":"挑戦状受理判定","index":2,"n_rows":30,"n_cols":7,"rows_kept":30}
[null,"ダイス１","ダイス２","ダイス３"]
["キング",71,80,88]
[{"$nulls":4},"数字全部手入力で、該当箇所は色変わる。はず。"]
["↓名前入力",{"$nulls":3},"判定"]
[null,37,82,25,{"$f":"IF(B5=$B$2,\"成功\",IF(B5=$C$2,\"成功\",IF(B5=$D$2,\"成功\",IF(C5=$B$2,\"成功\",IF(C5=$C$2,\"成功\",IF(C5=$D$2,\"成功\",IF(D5=$B$2,\"成功\",IF(D5=$C$2,\"成功\",IF(D5=$D$2,\"成功\",\"失敗\")))))))))","v":"失敗"},{"$f":"IF(E5=\"成功\",1,0)","v":0}]
[null,1,65,33,{"$f":"IF(B6=$B$2,\"成功\",IF(B6=$C$2,\"成功\",IF(B6=$D$2,\"成功\",IF(C6=$B$2,\"成功\",IF(C6=$C$2,\"成功\",IF(C6=$D$2,\"成功\",IF(D6=$B$2,\"成功\",IF(D6=$C$2,\"成功\",IF(D6=$D$2,\"成功\",\"失敗\")))))))))","v":"失敗"},{"$f":"IF(E6=\"成功\",1,0)","v":0}]
[null,0,0,0,"失敗",0]
[null,0,0,0,"失敗",0]
[null,0,0,0,"失敗",0]
[null,0,0,0,"失敗",0]
[null,0,0,0,"失敗",0]
[null,0,0,0,"失敗",0]
[null,0,0,0,"失敗",0]
[null,0,0,0,"失敗",0]
[{"$nulls":4},{"$f":"IF(F5=1,A5,IF(F6=1,A6, IF(F7=1,A7,IF(F8=1,A8,IF(F9=1,A9, IF(F10=1,A10, IF(F11=1,A11, IF(F12=1,A12, IF(F13=1,A13, IF(F14=1,A14,\"成功者ナシ\"))))))))))","v":"成功者ナシ"},{"$f":"SUM(F5:F14)","v":0},"←受理人数。黄色だと二人以上成立だから面倒くさい。そうそうないだろうけどがんばれ。"]
["実際は改行を削れ"]
["残念ながら"]
[{"$f":"IF(E5=\"失敗\",A5,\"\")","v":0},null,"成功者有の場合"]
[{"$f":"IF(E6=\"失敗\",A6,\"\")","v":0},null,"《挑戦状受理アナウンス》"]
[0,null,"おめでとうございます。【",{"$f":"IF($F$15=0,\"誰もいない\",IF($F$15=1,$E$15,\"二人以上成立\"))","v":"誰もいない"},"】の挑戦状が受理されました。"]
[0,null,"本日のデュエルは【キング】ｖｓ【",{"$f":"IF($F$15=0,\"誰もいない\",IF($F$15=1,$E$15,\"二人以上成立\"))","v":"誰もいない"},"】となります。"]
[0]
[0]
[0]
[0]
[0]
[0]
["の挑戦状は受理されませんでした。"]
["本日のデュエルは、キングの指定に沿って行われます。"]
["送ったのに自分の名前が挙げられていないという方は、こちらの発言まで安価にてお問い合わせください。"]

{"sheet":"計算不要テンプレ","index":3,"n_rows":31,"n_cols":16,"rows_kept":31}
["夜明け前アナウンス",{"$nulls":14},"デュエル村GM用エクセル"]
["【生存者】","朝一でダイスを１つ振ってください。発言やCOと一緒で構いません。",{"$nulls":13},"ver.2.1.1"]
["【役職者】","役職時間は固定です。正しく実行されているか、もう一度確認お願いします。"]
["【キング】","数字、確認しました。"]
[]
[{"$f":"\"@210\"","v":"@210"},{"$nulls":9},{"$f":"A6","v":"@210"}]
["《挑戦権判定ライン》",{"$nulls":9},"～挑戦権判定ライン・ここまで～"]
["ここまでの朝一ダイスを「挑戦権判定」に使用します。"]
["以降は挑戦権判定には使われませんが、まだの方も必ずダイスを振っておいてください。指定を貰った時に困ります。"]
[]
["挑戦状を送るかどうかは任意です。"]
["送る場合はこの発言から＠90頃の締切アナウンスまでの間に挑戦状を提出してください。"]
[]
["挑戦状を送る場合　※大文字で※"]
["「>>4000　挑戦状[dice*][dice*][dice*]」といった発言をしてください。簡潔な文なら一言付いていてもかまいません。"]
[]
[{"$f":"\"@90\"","v":"@90"},{"$nulls":9},{"$f":"A17","v":"@90"}]
["《挑戦状受け付け締め切り》",{"$nulls":9},"～挑戦状受け付け・ここまで～"]
["ただいまより、挑戦状の判定を行います。"]
["成立の有無については、投票時間になる前にアナウンスにて行います。"]
["キング視点で成立を確認した場合、アナウンスを待たず、キングから発表していただいてもかまいません。"]
[]
["また、挑戦状はこの発言以前に送付された挑戦状のみが有効となります。"]
[]
["背徳キング他界",{"$nulls":9},"キングが猫又に巻き込まれた場合・即"]
["前回キング【】は残念ながら事故に遭い、次の大会を待たずして他界してしまいました…。",{"$nulls":9},{"$f":"A26","v":"前回キング【】は残念ながら事故に遭い、次の大会を待たずして他界してしまいました…。"}]
["（狐の後を追って、というテキストを見なかったことにしながら）"]
[{"$nulls":10},{"$f":"A29","v":"大会が選出した【】に代わるキングは、前回準優勝者[who]です！"}]
["大会が選出した【】に代わるキングは、前回準優勝者[who]です！"]
["果たして今日は、誰とのデュエルになるのでしょうか。"]
[{"$f":"'動かすとき使ってる方（触らないこと）'!E26","v":"本日の挑戦権の獲得者は、朝一の出目が"},{"$f":"'動かすとき使ってる方（触らないこと）'!F26","v":"大きい順に"},{"$f":"'動かすとき使ってる方（触らないこと）'!G26","v":2},{"$f":"'動かすとき使ってる方（触らないこと）'!H26","v":"番目までの方です。"}]

{"sheet":"発案主","index":4,"n_rows":4,"n_cols":1,"rows_kept":4,"hidden":true}
["prototype"]
["by."]
["hoshi8"]
["◆TN84rJOwNP"]